BEGIN:VCALENDAR
VERSION:2.0
PRODID:-//U.O.E.I Sezione di Torre del Lago Puccini - ECPv6.9.0//NONSGML v1.0//EN
CALSCALE:GREGORIAN
METHOD:PUBLISH
X-ORIGINAL-URL:https://uoeitorredellago.it/wp
X-WR-CALDESC:Eventi per U.O.E.I Sezione di Torre del Lago Puccini
REFRESH-INTERVAL;VALUE=DURATION:PT1H
X-Robots-Tag:noindex
X-PUBLISHED-TTL:PT1H
BEGIN:VTIMEZONE
TZID:UTC
BEGIN:STANDARD
TZOFFSETFROM:+0000
TZOFFSETTO:+0000
TZNAME:UTC
DTSTART:20250101T000000
END:STANDARD
END:VTIMEZONE
BEGIN:VEVENT
DTSTART;TZID=UTC:20251004T080000
DTEND;TZID=UTC:20251005T170000
DTSTAMP:20260419T214052
CREATED:20241126T155704Z
LAST-MODIFIED:20250110T174122Z
UID:1135-1759564800-1759683600@uoeitorredellago.it
SUMMARY:TREEKING SUL TRASIMENO
DESCRIPTION:Appena saranno disponibili tutte le informazioni relative al programma dell’Escursione ( orario di partenza\, percorso e nome del responsabile)  verranno pubblicate sul nostro sito\, sulla nostra pagina Facebook e tramite Whatsapp.
URL:https://uoeitorredellago.it/wp/eventi/treeking-sul-trasimeno/
ATTACH;FMTTYPE=image/jpeg:https://uoeitorredellago.it/wp/wp-content/uploads/2024/11/via-del-trasimeno.jpg
END:VEVENT
BEGIN:VEVENT
DTSTART;VALUE=DATE:20251031
DTEND;VALUE=DATE:20251101
DTSTAMP:20260419T214052
CREATED:20241126T155751Z
LAST-MODIFIED:20250110T175057Z
UID:1137-1761868800-1761955199@uoeitorredellago.it
SUMMARY:FESTA DELLE ZUCCHE MOSTRUOSE
DESCRIPTION:Appena saranno disponibili tutte le informazioni relative al programma dell’Escursione ( orario di partenza\, percorso e nome del responsabile)  verranno pubblicate sul nostro sito\, sulla nostra pagina Facebook e tramite Whatsapp.
URL:https://uoeitorredellago.it/wp/eventi/festa-delle-zucche-mostruose/
ATTACH;FMTTYPE=image/jpeg:https://uoeitorredellago.it/wp/wp-content/uploads/2024/11/ZUCCHE-1.jpg
END:VEVENT
END:VCALENDAR