BEGIN:VCALENDAR
VERSION:2.0
PRODID:-//U.O.E.I Sezione di Torre del Lago Puccini - ECPv6.9.0//NONSGML v1.0//EN
CALSCALE:GREGORIAN
METHOD:PUBLISH
X-ORIGINAL-URL:https://uoeitorredellago.it/wp
X-WR-CALDESC:Eventi per U.O.E.I Sezione di Torre del Lago Puccini
REFRESH-INTERVAL;VALUE=DURATION:PT1H
X-Robots-Tag:noindex
X-PUBLISHED-TTL:PT1H
BEGIN:VTIMEZONE
TZID:UTC
BEGIN:STANDARD
TZOFFSETFROM:+0000
TZOFFSETTO:+0000
TZNAME:UTC
DTSTART:20250101T000000
END:STANDARD
END:VTIMEZONE
BEGIN:VEVENT
DTSTART;VALUE=DATE:20250815
DTEND;VALUE=DATE:20250816
DTSTAMP:20260420T010854
CREATED:20241126T155323Z
LAST-MODIFIED:20250110T172227Z
UID:1124-1755216000-1755302399@uoeitorredellago.it
SUMMARY:FESTA AL RIFUGIO DI PIAN DI NOVELLO
DESCRIPTION:Festa del rifugio a Pian di Novello. \nAppena saranno disponibili tutte le informazioni relative al programma dell’Escursione ( orario di partenza\, percorso e nome del responsabile)  verranno pubblicate sul nostro sito\, sulla nostra pagina Facebook e tramite Whatsapp.
URL:https://uoeitorredellago.it/wp/eventi/festa-al-rifugio-di-pian-d-novello/
ATTACH;FMTTYPE=image/jpeg:https://uoeitorredellago.it/wp/wp-content/uploads/2024/11/FESTA-AL-RIFUGIO-1.jpg
END:VEVENT
BEGIN:VEVENT
DTSTART;VALUE=DATE:20250824
DTEND;VALUE=DATE:20250825
DTSTAMP:20260420T010854
CREATED:20241126T155359Z
LAST-MODIFIED:20250110T172550Z
UID:1126-1755993600-1756079999@uoeitorredellago.it
SUMMARY:ISOLA GORGONA
DESCRIPTION:Appena saranno disponibili tutte le informazioni relative al programma dell’Escursione ( orario di partenza\, percorso e nome del responsabile)  verranno pubblicate sul nostro sito\, sulla nostra pagina Facebook e tramite Whatsapp.
URL:https://uoeitorredellago.it/wp/eventi/isola-gorgona/
ATTACH;FMTTYPE=image/jpeg:https://uoeitorredellago.it/wp/wp-content/uploads/2024/11/isola-di-Gorgona1.jpg
END:VEVENT
END:VCALENDAR