BEGIN:VCALENDAR
VERSION:2.0
PRODID:-//U.O.E.I Sezione di Torre del Lago Puccini - ECPv6.9.0//NONSGML v1.0//EN
CALSCALE:GREGORIAN
METHOD:PUBLISH
X-WR-CALNAME:U.O.E.I Sezione di Torre del Lago Puccini
X-ORIGINAL-URL:https://uoeitorredellago.it/wp
X-WR-CALDESC:Eventi per U.O.E.I Sezione di Torre del Lago Puccini
REFRESH-INTERVAL;VALUE=DURATION:PT1H
X-Robots-Tag:noindex
X-PUBLISHED-TTL:PT1H
BEGIN:VTIMEZONE
TZID:UTC
BEGIN:STANDARD
TZOFFSETFROM:+0000
TZOFFSETTO:+0000
TZNAME:UTC
DTSTART:20240101T000000
END:STANDARD
END:VTIMEZONE
BEGIN:VEVENT
DTSTART;TZID=UTC:20240511T060000
DTEND;TZID=UTC:20240512T220000
DTSTAMP:20260420T071205
CREATED:20240430T130632Z
LAST-MODIFIED:20240430T133710Z
UID:86-1715407200-1715551200@uoeitorredellago.it
SUMMARY:ESCURSIONE La Via Francigena\, da: Verres a Pont San Martin e Santuario di Oropa
DESCRIPTION:RITROVO\nDistributore Q8 Torre del Lago\n\n\nPARTENZA\nOre 6\,00 del 11 maggio 2024\n\n\nDURATA\nDue giorni\n\n\nDIFFICOLTA’\nMedia\n\n\nDISLIVELLO\nPrimo giorno pianeggiante secondo giorno circa 700 mt.\n\n\nPRANZO\nAl sacco e cena in albergo\n\n\nREFERENTI\nOrganizzazione tecnica “La Capinera Viaggi srl” Torre del Lago Puccini \nPER INFORMAZIONI ED ISCRIZIONI: Mario cell. 338 886 0726\n\n\n\n  \nRiproponiamo una delle tappe più belle della via Francigena già fatta nel maggio 2016 con la variante dell’arrivo ad Oropa e la visita al Santuario. \n  \nSabato 11 maggio 2024\nPartenza ore 6.00 dal solito distributore Q8 in via Aurelia a Tdl in bus GT destinazione Verres (AO)- sosta durante il percorso- arrivo a destinazione ed inizio escursione per il tracciato della via Francigena passando per Arnad\, Bard col suo imponente forte\, Donnas per finire a Pont San Martin. Lunghezza della tappa circa 15 chilometri-pranzo al sacco.\nTrasferimento in bus a Biella\, sistemazione in albergo\, cena e pernottamento \n  \nDomenica 12 maggio\nDopo colazione\, bagagli a bordo\, trasferimento in bus nei pressi della cattedrale di Biella per inizio escursione. \nRaggiungeremo l’abitato di Favaro dopo circa 10 km per proseguire lungo “il sentiero del trenino” che\, seguendo il tracciato della dismessa tramvia\, ci condurrà al Santuario (tratto finale necessariamente su asfalto) dove sarà possibile visitare le due basiliche oltre al Percorso del Sacro Monte di Oropa\, patrimonio Unesco. \nLunghezza della tappa circa 15 km con un dislivello totale di circa 700 metri – pranzo al sacco.\nPartenza per il rientro intorno alle 17\,30 con adeguate soste lungo il tragitto. \nEscursione riservata ai soli soci in regola col tesseramento dell’anno in corso.\nLa quota di partecipazione comprende il viaggio in bus-sistemazione in hotel con trattamento di mezza pensione-assicurazione medico bagaglio\, annullamento. \nComunicare eventuali richieste per diete particolari al momento della iscrizione. \n  \nPreiscrizione telefonica a partire dalle ore 18.00 del 28 febbraio 2024\, iscrizione che per essere valida dovrà essere\, il giorno dopo\, accompagnata dal versamento della quota dovuta.\nPer ogni telefonata accettiamo l’iscrizione per due soci\, non accettiamo messaggi o altre iscrizioni tramite social. \nOrganizzazione tecnica “La Capinera Viaggi srl” Torre del Lago Puccini \nPER INFORMAZIONI ED ISCRIZIONI Mario 338 886 0726
URL:https://uoeitorredellago.it/wp/eventi/escursione-la-via-francigena-da-verres-a-pont-san-martin-e-santuario-di-oropa/
LOCATION:Oropa\, Italia
ATTACH;FMTTYPE=image/jpeg:https://uoeitorredellago.it/wp/wp-content/uploads/2024/04/santuario-Oropa.jpg
END:VEVENT
END:VCALENDAR