BEGIN:VCALENDAR
VERSION:2.0
PRODID:-//U.O.E.I Sezione di Torre del Lago Puccini - ECPv6.9.0//NONSGML v1.0//EN
CALSCALE:GREGORIAN
METHOD:PUBLISH
X-WR-CALNAME:U.O.E.I Sezione di Torre del Lago Puccini
X-ORIGINAL-URL:https://uoeitorredellago.it/wp
X-WR-CALDESC:Eventi per U.O.E.I Sezione di Torre del Lago Puccini
REFRESH-INTERVAL;VALUE=DURATION:PT1H
X-Robots-Tag:noindex
X-PUBLISHED-TTL:PT1H
BEGIN:VTIMEZONE
TZID:UTC
BEGIN:STANDARD
TZOFFSETFROM:+0000
TZOFFSETTO:+0000
TZNAME:UTC
DTSTART:20250101T000000
END:STANDARD
END:VTIMEZONE
BEGIN:VEVENT
DTSTART;VALUE=DATE:20250413
DTEND;VALUE=DATE:20250414
DTSTAMP:20260420T084739
CREATED:20241126T154520Z
LAST-MODIFIED:20250110T161351Z
UID:1106-1744502400-1744588799@uoeitorredellago.it
SUMMARY:TREEKING FRAMURA-DEIVA MARINA (TRENO)
DESCRIPTION:Appena saranno disponibili tutte le informazioni relative al programma dell’Escursione ( orario di partenza\, percorso e nome del responsabile)  verranno pubblicate sul nostro sito\, sulla nostra pagina Facebook e tramite Whatsapp.
URL:https://uoeitorredellago.it/wp/eventi/treeking-framura-deiva-marina-treno/
ATTACH;FMTTYPE=image/webp:https://uoeitorredellago.it/wp/wp-content/uploads/2024/11/Framura_tratto_della_suggestiva_via_del_mare_che_collega_le_spiagge.webp
END:VEVENT
END:VCALENDAR