BEGIN:VCALENDAR
VERSION:2.0
PRODID:-//U.O.E.I Sezione di Torre del Lago Puccini - ECPv6.9.0//NONSGML v1.0//EN
CALSCALE:GREGORIAN
METHOD:PUBLISH
X-ORIGINAL-URL:https://uoeitorredellago.it/wp
X-WR-CALDESC:Eventi per U.O.E.I Sezione di Torre del Lago Puccini
REFRESH-INTERVAL;VALUE=DURATION:PT1H
X-Robots-Tag:noindex
X-PUBLISHED-TTL:PT1H
BEGIN:VTIMEZONE
TZID:UTC
BEGIN:STANDARD
TZOFFSETFROM:+0000
TZOFFSETTO:+0000
TZNAME:UTC
DTSTART:20250101T000000
END:STANDARD
END:VTIMEZONE
BEGIN:VEVENT
DTSTART;VALUE=DATE:20250319
DTEND;VALUE=DATE:20250320
DTSTAMP:20260420T100245
CREATED:20241126T154214Z
LAST-MODIFIED:20250110T180521Z
UID:1096-1742342400-1742428799@uoeitorredellago.it
SUMMARY:PASSEGGIATA SCUOLE TOMEI
DESCRIPTION:TREKKING DEDICATO ALLE SCUOLE \nAppena saranno disponibili tutte le informazioni relative al programma dell’Escursione ( orario di partenza\, percorso e nome del responsabile)  verranno pubblicate sul nostro sito\, sulla nostra pagina Facebook e tramite Whatsapp.
URL:https://uoeitorredellago.it/wp/eventi/passeggiata-scuole-tomei/
ATTACH;FMTTYPE=image/jpeg:https://uoeitorredellago.it/wp/wp-content/uploads/2024/11/CAMMINATA-SCUOLE.jpg
END:VEVENT
END:VCALENDAR