BEGIN:VCALENDAR
VERSION:2.0
PRODID:-//U.O.E.I Sezione di Torre del Lago Puccini - ECPv6.9.0//NONSGML v1.0//EN
CALSCALE:GREGORIAN
METHOD:PUBLISH
X-ORIGINAL-URL:https://uoeitorredellago.it/wp
X-WR-CALDESC:Eventi per U.O.E.I Sezione di Torre del Lago Puccini
REFRESH-INTERVAL;VALUE=DURATION:PT1H
X-Robots-Tag:noindex
X-PUBLISHED-TTL:PT1H
BEGIN:VTIMEZONE
TZID:UTC
BEGIN:STANDARD
TZOFFSETFROM:+0000
TZOFFSETTO:+0000
TZNAME:UTC
DTSTART:20250101T000000
END:STANDARD
END:VTIMEZONE
BEGIN:VEVENT
DTSTART;VALUE=DATE:20250316
DTEND;VALUE=DATE:20250317
DTSTAMP:20260420T100245
CREATED:20241126T154115Z
LAST-MODIFIED:20250302T175651Z
UID:1094-1742083200-1742169599@uoeitorredellago.it
SUMMARY:TREEKING IN MAREMMA
DESCRIPTION:Escursione al parco della Maremma\, in Bus da Torre del lago. \nPranzo al sacco. Ritrovo e partenza dal solito distributore Q8 in Via Aurelia a TDL in orario da stabilire alla volta del parco dell’Uccellina o della Maremma. \nDal centro visite\, accompagnati dalle guide\, percorreremo il sentiero A2 delle Torri\, intinerario  “perfetto” per iniziare a conoscere il parco\,   visitando uno dei luoghi  più belli e godendo di spettacolari panorami sulla pianura dell’Ombrone\, la catena dell’Uccellina\, il mare e le isole dell’arcipelago Toscano. \nTransiteremo dalla suggestiva pineta granducale camminando su antichi cordoli di sabbia\, sui quali nell’800 sono stati piantati 600 ettari di pini e poi lentischio e ginepro.\nGiunti al ponte delle tartarughe\, si attraversa il canale dello scoglietto e si comincia a salire con davanti un mare di chiome di pini e poi verso il mare e le isole dell’Arcipelago per arrivare poi alla torre di Castel Marino\, gia’ documentate nel duecento\, che faceva parte del sistema di avvistamento per la difesa contro le incursione dei pirati  barbareschi e da dove si gode dei piu bei panorami del parco. \nSi raggiunge poi la torre del Collelungo quasi a picco sul mare per scendere alla spiaggia e riprendere la via del rientro. \nEscursione riservata ai isoli soci in regola col tesseramento dell’anno in corso\, valutare in maniera obbiettiva le proprie condizioni fisiche ed attitudinale prima di intraprendere questo tipo di attività che pur non presentando particolari difficoltà tecniche richiedono sempre un certo impegno fisico non fosse altro che per la lunghezza. \nSi raccomanda vestiario adatto e soprattutto scarpe con la suola scolpita. \nper partecipare occorre prenotarsi telefonicamente\, due soci per telefonata. non per messaggi o altri social\, con la successiva conferma che avviene col versamento della quota dovuta da fare nei giorni successivi. \nLa quota di partecipazione comprende il viaggio in Bus GT\, l’ingresso e l’assistenza delle guide durante il trekking\, assicurazione medico-bagaglio.\nASSISTENZA TECNICA A CURA DI “LA CAPINERA VIAGGI” VIA AURELIA TDLPER INFORMAZIONI E PRENOTAZIONI LUCIANO 340 2740 394
URL:https://uoeitorredellago.it/wp/eventi/treeking-in-maremma/
ATTACH;FMTTYPE=image/jpeg:https://uoeitorredellago.it/wp/wp-content/uploads/2024/11/parco-naturale-maremma.jpg
END:VEVENT
END:VCALENDAR