BEGIN:VCALENDAR
VERSION:2.0
PRODID:-//U.O.E.I Sezione di Torre del Lago Puccini - ECPv6.9.0//NONSGML v1.0//EN
CALSCALE:GREGORIAN
METHOD:PUBLISH
X-WR-CALNAME:U.O.E.I Sezione di Torre del Lago Puccini
X-ORIGINAL-URL:https://uoeitorredellago.it/wp
X-WR-CALDESC:Eventi per U.O.E.I Sezione di Torre del Lago Puccini
REFRESH-INTERVAL;VALUE=DURATION:PT1H
X-Robots-Tag:noindex
X-PUBLISHED-TTL:PT1H
BEGIN:VTIMEZONE
TZID:UTC
BEGIN:STANDARD
TZOFFSETFROM:+0000
TZOFFSETTO:+0000
TZNAME:UTC
DTSTART:20250101T000000
END:STANDARD
END:VTIMEZONE
BEGIN:VEVENT
DTSTART;VALUE=DATE:20250223
DTEND;VALUE=DATE:20250224
DTSTAMP:20260420T113835
CREATED:20241126T154012Z
LAST-MODIFIED:20250110T155009Z
UID:1090-1740268800-1740355199@uoeitorredellago.it
SUMMARY:CARNEVAL A CASTEL FIBOCCHI
DESCRIPTION:Dalla sfilata dei carri del sabato a Viareggio a questo carnevale storico dei “Filiis Bocchi” nell’aretino.Partenza in orario da definire dal solito distributore Q8 in via Aurelia a TDL\, pranzo al sacco e comunque libero.Raggiungeremo il borgo di Castiglion Fibocchi e\, una volta entrati nel circuito della festa\, la giornata sarà libera per potersi muovere autonomamente alla ricerca dei vari momenti di spettacolo che si svolgeranno nell’arco della giornata e che culmineranno alle 14\,30 con la sfilata degli oltre 200 figuranti sfarzosamente vestiti con abiti barocchi e col volto coperto con maschere di cartapesta.Domina su tutte la maschera del re Bocco\, poi le regine\, le principesse\, i maghi\, gli animatori dei giochi\, cantastorie\, spettacoli di magia e concerti…Il “Carnevale dei Filiis Bocchi” viene riproposto da oltre venti anni secondo una antica tradizione del XII° secolo ed ora questa sfilata viene addirittura paragonata ad una piccola Venezia.Il borgo di Castiglion Fibocchi sorge alle pendici del Pratomagno\, non lontano da Arezzo\, là dove una volta sorgeva un antico castello circondato da mura con ben sette torri di avvistamento e due porte di ingresso che vigilava sul transito dell’antica via romana Cassia\nEVENTO RISERVATO AI SOCI IN REGOLA COL TESSERAMENTO DELL’ANNO IN CORSO.\nISCRIZIONI TELEFONICHE APERTE DA ORA\, (no messaggi o fb) CHE \, PER ESSERE VALIDE\, DOVRANNO ESSERE CONFERMATE COL VERSAMENTO DELLA QUOTA DOVUTA IL MARTEDI’ SUCCESSIVO PRESSO LA NOSTRA SEDE DALLE ORE 21.00 ALLE 22.00. IL COSTO DI PARTECIPAZIONE COMPRENDE IL VIAGGIO IN BUS GT \, BIGLIETTO DI INGRESSO ALLA MANIFESTAZIONE E ASSICURAZIONE MEDICO/BAGAGLI.\nOrganizzazione tecnica a cura di “La Capinera Viaggi” via Aurelia a TDL.\nPER INFORMAZIONI E PRENOTAZIONI LUCIANO 340 2740 394 \nMostra meno
URL:https://uoeitorredellago.it/wp/eventi/carneval-a-castel-fibocchi/
ATTACH;FMTTYPE=image/jpeg:https://uoeitorredellago.it/wp/wp-content/uploads/2024/11/CASTEL-FIBOCCHI.jpg
END:VEVENT
END:VCALENDAR