BEGIN:VCALENDAR
VERSION:2.0
PRODID:-//U.O.E.I Sezione di Torre del Lago Puccini - ECPv6.9.0//NONSGML v1.0//EN
CALSCALE:GREGORIAN
METHOD:PUBLISH
X-ORIGINAL-URL:https://uoeitorredellago.it/wp
X-WR-CALDESC:Eventi per U.O.E.I Sezione di Torre del Lago Puccini
REFRESH-INTERVAL;VALUE=DURATION:PT1H
X-Robots-Tag:noindex
X-PUBLISHED-TTL:PT1H
BEGIN:VTIMEZONE
TZID:UTC
BEGIN:STANDARD
TZOFFSETFROM:+0000
TZOFFSETTO:+0000
TZNAME:UTC
DTSTART:20250101T000000
END:STANDARD
END:VTIMEZONE
BEGIN:VEVENT
DTSTART;VALUE=DATE:20250119
DTEND;VALUE=DATE:20250120
DTSTAMP:20260422T191211
CREATED:20241126T153858Z
LAST-MODIFIED:20250110T154433Z
UID:1088-1737244800-1737331199@uoeitorredellago.it
SUMMARY:TREEKING A LIVORNO
DESCRIPTION:Trekking urbano alla ricerca di luoghi insoliti e leggende fino al “molo nuovo” per ammirare un panorama sulla città da una diversa e nuova prospettiva.Partenza col treno da Viareggio alle ore 9\,20 e da Tdl 9\,32 con arrivo a Livorno\, col cambio a Pisa\, alle ore 10\,51.Trekking per le vie cittadine verso piazza della Repubblica\, via Grande\, monumento ai 4 mori\, molo nuovo e ritorno alla stazione ferroviaria per il vecchio mercato\, Chiesa di Santa Caterina nel rione Venezia e la Fortezza nuova.Rientro previsto col treno delle ore 18.01 che ferma a TDL alle ore18\,42 e alle 18\,52 a Viareggio (cambio a Pisa).Pranzo al sacco- presentarsi alla partenza con i biglietti fatti personalmente.\nEvento riservato ai soli soci UOEI in regola col tesseramento dell’anno in corso (non occorre tessera FIE).\nPercorso di tipo T della lunghezza di circa 12 chilometri senza problematiche particolari\, valutare comunque sempre in maniera obiettiva le proprie capacità fisiche ed attitudinali per partecipare a questo tipo di attività anche soltanto in considerazione della lunghezza del trekking.\nNecessaria la conferma di partecipazione per una migliore pianificazione della manifestazione da fare per telefono o messaggio\, no FB o altri social entro il sabato 11 alle ore 13.00\nPer info e prenotazioni Luciano 340 2740 394
URL:https://uoeitorredellago.it/wp/eventi/treeking-a-livorno/
ATTACH;FMTTYPE=image/jpeg:https://uoeitorredellago.it/wp/wp-content/uploads/2024/11/TREKKING-LIVORNO.jpg
END:VEVENT
END:VCALENDAR